    BEGIN:VCALENDAR
VERSION:2.0
PRODID:-//LNBTI - ECPv6.15.20//NONSGML v1.0//EN
CALSCALE:GREGORIAN
METHOD:PUBLISH
X-WR-CALNAME:LNBTI
X-ORIGINAL-URL:https://lnbti.lk
X-WR-CALDESC:Events for LNBTI
REFRESH-INTERVAL;VALUE=DURATION:PT1H
X-Robots-Tag:noindex
X-PUBLISHED-TTL:PT1H
BEGIN:VTIMEZONE
TZID:Asia/Kolkata
BEGIN:STANDARD
TZOFFSETFROM:+0530
TZOFFSETTO:+0530
TZNAME:IST
DTSTART:20250101T000000
END:STANDARD
END:VTIMEZONE
BEGIN:VEVENT
DTSTART;TZID=Asia/Kolkata:20260425T080000
DTEND;TZID=Asia/Kolkata:20260425T170000
DTSTAMP:20260420T093519
CREATED:20260312T111339Z
LAST-MODIFIED:20260312T111339Z
UID:22327-1777104000-1777136400@lnbti.lk
SUMMARY:LNBTI Awurudu Celebration 2026
DESCRIPTION:LNBTI Awurudu Celebration will be held on the 25th of April 2026.\nThis vibrant event will celebrate the Sinhala and Tamil New Year with a day filled with traditional games\, cultural performances\, festive treats\, and joyful fellowship.\nThe celebration aims to strengthen unity\, preserve cultural heritage\, and create memorable moments within the LNBTI community.\nLet’s come together to celebrate tradition\, togetherness\, and new beginnings! ✨
URL:https://lnbti.lk/event/lnbti-awurudu-celebration-2026/
ATTACH;FMTTYPE=image/png:https://lnbti.lk/wp-content/uploads/2026/03/ChatGPT-Image-Mar-11-2026-03_09_45-PM.png
END:VEVENT
END:VCALENDAR