    BEGIN:VCALENDAR
VERSION:2.0
PRODID:-//LNBTI - ECPv6.15.20//NONSGML v1.0//EN
CALSCALE:GREGORIAN
METHOD:PUBLISH
X-ORIGINAL-URL:https://lnbti.lk
X-WR-CALDESC:Events for LNBTI
REFRESH-INTERVAL;VALUE=DURATION:PT1H
X-Robots-Tag:noindex
X-PUBLISHED-TTL:PT1H
BEGIN:VTIMEZONE
TZID:Asia/Kolkata
BEGIN:STANDARD
TZOFFSETFROM:+0530
TZOFFSETTO:+0530
TZNAME:IST
DTSTART:20250101T000000
END:STANDARD
END:VTIMEZONE
BEGIN:VEVENT
DTSTART;TZID=Asia/Kolkata:20260313T080000
DTEND;TZID=Asia/Kolkata:20260313T170000
DTSTAMP:20260420T105208
CREATED:20260306T053626Z
LAST-MODIFIED:20260306T055755Z
UID:22010-1773388800-1773421200@lnbti.lk
SUMMARY:Japanese Day 2026 at LNBTI
DESCRIPTION:Event Date: 13 March 2026 \nLanka Nippon BizTech Institute (LNBTI) will host Japanese Day 2026\, a cultural celebration dedicated to showcasing the rich traditions and heritage of Japan. \nThis special event will provide participants with an engaging opportunity to experience authentic Japanese cultural activities and traditions in a lively and educational environment. \nEvent Highlights 🎌\n\nTraditional Japanese Tea Ceremony\nLive Demonstration of Japanese Curry Rice Preparation\nInteractive Japanese Cultural Games\nOpportunities to experience Japanese traditions and customs\n\nJapanese Day aims to strengthen cultural understanding while promoting the close ties between Sri Lanka and Japan\, which remain at the heart of LNBTI’s educational mission. \nThe event will bring together students\, staff\, and guests to celebrate Japanese culture through interactive experiences\, food\, and traditional practices\, creating a memorable and meaningful cultural exchange.
URL:https://lnbti.lk/event/japanese-day-2026-at-lnbti/
LOCATION:LNBTI City Building
ATTACH;FMTTYPE=image/png:https://lnbti.lk/wp-content/uploads/2026/03/japanese-day-2026-banner.png
END:VEVENT
BEGIN:VEVENT
DTSTART;VALUE=DATE:20260321
DTEND;VALUE=DATE:20260323
DTSTAMP:20260420T105208
CREATED:20260304T114144Z
LAST-MODIFIED:20260313T035612Z
UID:21950-1774051200-1774223999@lnbti.lk
SUMMARY:Battle of the Multiverse ’26
DESCRIPTION:Battle of the Multiverse ’26 – Sri Lanka × Japan : Inter-University CTF Challenge\nEvent Dates: 21 – 22 March 2026 \nBattle of the Multiverse ’26 is a 24-hour overnight inter-university cybersecurity competition bringing together the sharpest cyber minds from Sri Lanka and Japan. This international Capture-the-Flag (CTF) challenge will test participants’ technical abilities\, teamwork\, and strategic thinking in a high-pressure competitive environment. \nThe event provides a unique opportunity for university students passionate about cybersecurity to experience a real-world cyber challenge while collaborating and competing on a global stage. \nChallenge Domains \n\n\n\nCryptography\nDigital Forensics\nWeb Security\nOSINT (Open Source Intelligence)\n\n\n\n\nReverse Engineering\n\nParticipants will face a series of complex cybersecurity challenges that require analytical thinking\, technical precision\, and endurance throughout the 24-hour competition. \nEarly Registration Offer \n\nEarly Bird Fee: LKR 2\,000 per participant (extended until 2 March 2026)\nStandard Registration Fee: LKR 3\,000 per participant\n\nRegistration Deadline: 11 March 2026 \nParticipants are strongly encouraged to register early as available slots are limited. \nImportant Links \n\nRegistration Form: Register Here\nDelegates’ Booklet (Rules & Format): Download Booklet\nOfficial WhatsApp Community: Join Community\n\nContact for Inquiries\nPhone: +94 76 689 0720 \nThe battlefield is set. The challenge is coming.\nSecure your place and be part of the Sri Lanka × Japan : Inter-University CTF experience.
URL:https://lnbti.lk/event/battle-of-the-multiverse-26/
LOCATION:LNBTI Main Building
ATTACH;FMTTYPE=image/jpeg:https://lnbti.lk/wp-content/uploads/2026/03/1768229345757.jpg
ORGANIZER;CN="Cybersecurity Club of LNBTI":MAILTO:cybersecurityclub@edu.lnbti.lk
END:VEVENT
END:VCALENDAR